BEGIN:VCALENDAR
VERSION:2.0
PRODID:-//Artists of Northwest Arkansas - ECPv6.15.20//NONSGML v1.0//EN
CALSCALE:GREGORIAN
METHOD:PUBLISH
X-WR-CALNAME:Artists of Northwest Arkansas
X-ORIGINAL-URL:https://artistsnwarkansas.com
X-WR-CALDESC:Events for Artists of Northwest Arkansas
REFRESH-INTERVAL;VALUE=DURATION:PT1H
X-Robots-Tag:noindex
X-PUBLISHED-TTL:PT1H
BEGIN:VTIMEZONE
TZID:UTC
BEGIN:STANDARD
TZOFFSETFROM:+0000
TZOFFSETTO:+0000
TZNAME:UTC
DTSTART:20240101T000000
END:STANDARD
END:VTIMEZONE
BEGIN:VEVENT
DTSTART;TZID=UTC:20251211T160000
DTEND;TZID=UTC:20251211T200000
DTSTAMP:20260425T133842
CREATED:20251105T015738Z
LAST-MODIFIED:20251105T015830Z
UID:8036-1765468800-1765483200@artistsnwarkansas.com
SUMMARY:Membership Show and 6x6 Silent Auction
DESCRIPTION:Help us raise money for education programs and events at ANA. Find some great original art for Christmas gifts this year. Our fifth annual 6 x 6 Silent Auction is a fund raising event supporting the programs and events of ANA. \nWe are holding our fifth annual 6 x 6 Silent Auction on the evening of Thursday\, December 11\, just in time for Christmas gift shopping. The 6” x 6” show is a silent auction that has become an ANA tradition to raise money for education programs\, events and program expenses. We’ve handed out over 220 FREE 6” x 6” stretched canvases to anyone that wants to participate. Artists take them home\, paint whatever you choose on them\, and then bring them to art drop-off for the December Membership Show on Friday and Saturday November 28 – 29\, between 1:00 – 5:00 pm. Help us build our ANA programs.
URL:https://artistsnwarkansas.com/event/membership-show-and-6x6-silent-auction/
LOCATION:ANA Gallery\, 300 N. 2nd Street\, Rogers\, AR\, 72756\, United States
CATEGORIES:ANA Party,Art Shows
ATTACH;FMTTYPE=image/jpeg:https://artistsnwarkansas.com/wp-content/uploads/2025/11/sd-apple.jpg
END:VEVENT
BEGIN:VEVENT
DTSTART;TZID=UTC:20250726T170000
DTEND;TZID=UTC:20250726T200000
DTSTAMP:20260425T133842
CREATED:20250722T233057Z
LAST-MODIFIED:20250722T233556Z
UID:7382-1753549200-1753560000@artistsnwarkansas.com
SUMMARY:Christmas in July
DESCRIPTION:Open to all ANA members and guests (plus 1) \n\nTime to meet other members\, socialize\, celebrate ANA!\nFood\, drinks\, music provided\n•Secret Santa Surprise Swap (Bring an art related gift—a piece of your art or an art gift — something that you would appreciate receiving)\n\nSanta is coming to town. He’s heard that we’ve been good and need a celebration. It’s time to get together on July 26 for our Christmas party. We will have good food from Artful Appetizers by Lenna Daulton\, our Secret Santa gifts\, and an opportunity to just visit will all our ANA friends. We’ll hold the event at the ANA Studio. So mark your calendars! Santa’s on his way.
URL:https://artistsnwarkansas.com/event/christmas-in-july/
LOCATION:ANA Studio\, 300 N. 2nd Street\, Rogers\, AR\, 72756\, United States
CATEGORIES:ANA Party
ATTACH;FMTTYPE=image/jpeg:https://artistsnwarkansas.com/wp-content/uploads/2023/06/santa-in-shades.jpg
END:VEVENT
END:VCALENDAR