BEGIN:VCALENDAR
VERSION:2.0
PRODID:-//Artists of Northwest Arkansas - ECPv6.15.20//NONSGML v1.0//EN
CALSCALE:GREGORIAN
METHOD:PUBLISH
X-WR-CALNAME:Artists of Northwest Arkansas
X-ORIGINAL-URL:https://artistsnwarkansas.com
X-WR-CALDESC:Events for Artists of Northwest Arkansas
REFRESH-INTERVAL;VALUE=DURATION:PT1H
X-Robots-Tag:noindex
X-PUBLISHED-TTL:PT1H
BEGIN:VTIMEZONE
TZID:UTC
BEGIN:STANDARD
TZOFFSETFROM:+0000
TZOFFSETTO:+0000
TZNAME:UTC
DTSTART:20240101T000000
END:STANDARD
END:VTIMEZONE
BEGIN:VEVENT
DTSTART;TZID=UTC:20251211T160000
DTEND;TZID=UTC:20251211T200000
DTSTAMP:20260422T053208
CREATED:20251105T015738Z
LAST-MODIFIED:20251105T015830Z
UID:8036-1765468800-1765483200@artistsnwarkansas.com
SUMMARY:Membership Show and 6x6 Silent Auction
DESCRIPTION:Help us raise money for education programs and events at ANA. Find some great original art for Christmas gifts this year. Our fifth annual 6 x 6 Silent Auction is a fund raising event supporting the programs and events of ANA. \nWe are holding our fifth annual 6 x 6 Silent Auction on the evening of Thursday\, December 11\, just in time for Christmas gift shopping. The 6” x 6” show is a silent auction that has become an ANA tradition to raise money for education programs\, events and program expenses. We’ve handed out over 220 FREE 6” x 6” stretched canvases to anyone that wants to participate. Artists take them home\, paint whatever you choose on them\, and then bring them to art drop-off for the December Membership Show on Friday and Saturday November 28 – 29\, between 1:00 – 5:00 pm. Help us build our ANA programs.
URL:https://artistsnwarkansas.com/event/membership-show-and-6x6-silent-auction/
LOCATION:ANA Gallery\, 300 N. 2nd Street\, Rogers\, AR\, 72756\, United States
CATEGORIES:ANA Party,Art Shows
ATTACH;FMTTYPE=image/jpeg:https://artistsnwarkansas.com/wp-content/uploads/2025/11/sd-apple.jpg
END:VEVENT
BEGIN:VEVENT
DTSTART;TZID=UTC:20260212T163000
DTEND;TZID=UTC:20260212T193000
DTSTAMP:20260422T053208
CREATED:20260120T023507Z
LAST-MODIFIED:20260120T023507Z
UID:8288-1770913800-1770924600@artistsnwarkansas.com
SUMMARY:Anniversary Gallery Group Exhibit
DESCRIPTION:Come join us on Thursday evening for our one year anniversary at the ANA Gallery. There’s food\, drinks\, art\, and the artists to visit with.
URL:https://artistsnwarkansas.com/event/anniversary-gallery-group-exhibit/
LOCATION:ANA Gallery\, 300 N. 2nd Street\, Rogers\, AR\, 72756\, United States
CATEGORIES:Art Shows
ATTACH;FMTTYPE=image/jpeg:https://artistsnwarkansas.com/wp-content/uploads/2026/01/anangg-jan-2026-2.jpg
END:VEVENT
BEGIN:VEVENT
DTSTART;TZID=UTC:20260227T130000
DTEND;TZID=UTC:20260227T170000
DTSTAMP:20260422T053208
CREATED:20260211T013812Z
LAST-MODIFIED:20260211T013812Z
UID:8391-1772197200-1772211600@artistsnwarkansas.com
SUMMARY:March Art Drop Off
DESCRIPTION:Drop off for the ANA March Membership Show.
URL:https://artistsnwarkansas.com/event/march-art-drop-off/
LOCATION:ANA Gallery\, 300 N. 2nd Street\, Rogers\, AR\, 72756\, United States
CATEGORIES:Art Shows
END:VEVENT
BEGIN:VEVENT
DTSTART;TZID=UTC:20260312T163000
DTEND;TZID=UTC:20260312T193000
DTSTAMP:20260422T053208
CREATED:20260211T013534Z
LAST-MODIFIED:20260311T013545Z
UID:8389-1773333000-1773343800@artistsnwarkansas.com
SUMMARY:March Membership Show
DESCRIPTION:March 4  – March 26\, 2026\nArtist Reception: March 12\, 2026\nTime: 4:30 – 7:30 pm\nSpring is in the Air\nIt’s beginning to thaw out and the daffodils are peaking out their flowered heads. Time for the Spring membership show at ANA. Join us for a evening of art\, music\, food\, drinks\, great artists friends. It’s always fun and the show is GREAT!
URL:https://artistsnwarkansas.com/event/march-membership-show/
LOCATION:ANA Gallery\, 300 N. 2nd Street\, Rogers\, AR\, 72756\, United States
CATEGORIES:Art Shows
ATTACH;FMTTYPE=image/jpeg:https://artistsnwarkansas.com/wp-content/uploads/2026/02/cactus-ca.jpg
END:VEVENT
BEGIN:VEVENT
DTSTART;TZID=UTC:20260408T180000
DTEND;TZID=UTC:20260408T200000
DTSTAMP:20260422T053208
CREATED:20260318T113634Z
LAST-MODIFIED:20260318T113634Z
UID:8552-1775671200-1775678400@artistsnwarkansas.com
SUMMARY:Confluence Exhibit
DESCRIPTION:Confluence Exhibit\nTwelve Artists | One Exhibit\nArtist Reception: April 8\, 2026\n6:00 pm – 8:00 pm\nConfluence runs through May 30th \nThe Gallery at Theo’s \n3300 S. Market St. #100 • Rogers\, AR
URL:https://artistsnwarkansas.com/event/confluence-exhibit/
LOCATION:The Gallery at Theo’s\, 3300 S. Market St. #100\, Rogers\, AR
CATEGORIES:Art Shows
ATTACH;FMTTYPE=image/jpeg:https://artistsnwarkansas.com/wp-content/uploads/2026/03/Theo-confluence-3.jpg
END:VEVENT
BEGIN:VEVENT
DTSTART;TZID=UTC:20260409T163000
DTEND;TZID=UTC:20260409T193000
DTSTAMP:20260422T053208
CREATED:20260318T103954Z
LAST-MODIFIED:20260407T061704Z
UID:8531-1775752200-1775763000@artistsnwarkansas.com
SUMMARY:Sparkle Exhibit
DESCRIPTION:Sparkle Exhibit – ANA Gallery Group\nApril 1 – May 28\, 2026\nOpening Reception\nApril 9\, 2026\n4:30 – 7:30 pm
URL:https://artistsnwarkansas.com/event/sparkle-exhibit/
LOCATION:ANA Gallery\, 300 N. 2nd Street\, Rogers\, AR\, 72756\, United States
CATEGORIES:Art Shows,Current Exhibit
ATTACH;FMTTYPE=image/jpeg:https://artistsnwarkansas.com/wp-content/uploads/2026/04/sparkle-art-7.jpg
END:VEVENT
END:VCALENDAR