BEGIN:VCALENDAR
VERSION:2.0
PRODID:-//Artists of Northwest Arkansas - ECPv6.15.20//NONSGML v1.0//EN
CALSCALE:GREGORIAN
METHOD:PUBLISH
X-WR-CALNAME:Artists of Northwest Arkansas
X-ORIGINAL-URL:https://artistsnwarkansas.com
X-WR-CALDESC:Events for Artists of Northwest Arkansas
REFRESH-INTERVAL;VALUE=DURATION:PT1H
X-Robots-Tag:noindex
X-PUBLISHED-TTL:PT1H
BEGIN:VTIMEZONE
TZID:UTC
BEGIN:STANDARD
TZOFFSETFROM:+0000
TZOFFSETTO:+0000
TZNAME:UTC
DTSTART:20240101T000000
END:STANDARD
END:VTIMEZONE
BEGIN:VEVENT
DTSTART;TZID=UTC:20250814T163000
DTEND;TZID=UTC:20250814T193000
DTSTAMP:20260419T120736
CREATED:20250703T003735Z
LAST-MODIFIED:20250731T011748Z
UID:7416-1755189000-1755199800@artistsnwarkansas.com
SUMMARY:ANA Gallery August Reception
DESCRIPTION:Get ready for a hot show at the ANA Gallery! Summer heat is here and so is the art from the ANA Gallery Group.
URL:https://artistsnwarkansas.com/event/ana-gallery-august-reception/
LOCATION:ANA Gallery\, 300 N. 2nd Street\, Rogers\, AR\, 72756\, United States
CATEGORIES:Gallery Show
ATTACH;FMTTYPE=image/jpeg:https://artistsnwarkansas.com/wp-content/uploads/2025/07/hot-art-art-1.jpg
END:VEVENT
END:VCALENDAR